BEGIN:VCALENDAR
VERSION:2.0
PRODID:-//INSELHOF - ECPv6.15.17//NONSGML v1.0//EN
CALSCALE:GREGORIAN
METHOD:PUBLISH
X-WR-CALNAME:INSELHOF
X-ORIGINAL-URL:https://inselhof-borkum.de
X-WR-CALDESC:Veranstaltungen für INSELHOF
REFRESH-INTERVAL;VALUE=DURATION:PT1H
X-Robots-Tag:noindex
X-PUBLISHED-TTL:PT1H
BEGIN:VTIMEZONE
TZID:UTC
BEGIN:STANDARD
TZOFFSETFROM:+0000
TZOFFSETTO:+0000
TZNAME:UTC
DTSTART:20250101T000000
END:STANDARD
END:VTIMEZONE
BEGIN:VEVENT
DTSTART;TZID=UTC:20260514T170000
DTEND;TZID=UTC:20260514T220000
DTSTAMP:20260421T210210
CREATED:20260408T211902Z
LAST-MODIFIED:20260408T211902Z
UID:46020-1778778000-1778796000@inselhof-borkum.de
SUMMARY:Anker los! – Himmelfahrt am Upholm-Hof
DESCRIPTION:Feiert den Vatertag & Christi Himmelfahrt mit bester Live-Musik und echter Insel-Atmosphäre! 🌊☀️Am Himmelfahrtstag verwandelt sich der Upholmhof auf Borkum in eine Bühne für mitreißenden Sound – mit den Dixi Tramps! \nFreut euch auf schwungvolle Rhythmen\, handgemachte Musik und jede Menge gute Laune. Die Dixi Tramps bringen mit ihrem unverwechselbaren Stil aus Dixieland\, Jazz und Partyklassikern ordentlich Stimmung auf den Hof – perfekt für einen geselligen Feiertag mit Freunden! \n🎶 Das erwartet euch: \n\nLive-Musik von den Dixi Tramps\nDixieland\, Jazz & bekannte Klassiker\nBeste Stimmung zum Mitswingen & Mitfeiern\nKühle Drinks & leckere Snacks\nFeiertagsfeeling unter freiem Himmel\n\nOb beim Frühschoppen\, entspannten Beisammensein oder ausgelassenem Feiern – hier kommt jeder auf seine Kosten! 🍻🎷 \n📅 Datum: Christi Himmelfahrt📍 Location: Upholmhof\, Borkum⏰ Beginn: 17:00 Uhr \n👉 Kommt vorbei und genießt Himmelfahrt mit Musik\, Freunden und bester Stimmung!
URL:https://inselhof-borkum.de/event/anker-los-himmelfahrt-am-upholm-hof/
LOCATION:Upholm-Hof\, Upholmstraße 45\, Borkum\, 26757
CATEGORIES:Live Band,Musik,Party
ATTACH;FMTTYPE=image/jpeg:https://inselhof-borkum.de/wp-content/uploads/2026/04/event_06-OpTBNh.jpg
END:VEVENT
END:VCALENDAR